BEGIN:VCALENDAR
VERSION:2.0
PRODID:-//L&#039;Ecole Francaise du Maine - ECPv6.15.19//NONSGML v1.0//EN
CALSCALE:GREGORIAN
METHOD:PUBLISH
X-WR-CALNAME:L&#039;Ecole Francaise du Maine
X-ORIGINAL-URL:https://efdm.org
X-WR-CALDESC:Events for L&#039;Ecole Francaise du Maine
REFRESH-INTERVAL;VALUE=DURATION:PT1H
X-Robots-Tag:noindex
X-PUBLISHED-TTL:PT1H
BEGIN:VTIMEZONE
TZID:America/New_York
BEGIN:DAYLIGHT
TZOFFSETFROM:-0500
TZOFFSETTO:-0400
TZNAME:EDT
DTSTART:20230312T070000
END:DAYLIGHT
BEGIN:STANDARD
TZOFFSETFROM:-0400
TZOFFSETTO:-0500
TZNAME:EST
DTSTART:20231105T060000
END:STANDARD
BEGIN:DAYLIGHT
TZOFFSETFROM:-0500
TZOFFSETTO:-0400
TZNAME:EDT
DTSTART:20240310T070000
END:DAYLIGHT
BEGIN:STANDARD
TZOFFSETFROM:-0400
TZOFFSETTO:-0500
TZNAME:EST
DTSTART:20241103T060000
END:STANDARD
BEGIN:DAYLIGHT
TZOFFSETFROM:-0500
TZOFFSETTO:-0400
TZNAME:EDT
DTSTART:20250309T070000
END:DAYLIGHT
BEGIN:STANDARD
TZOFFSETFROM:-0400
TZOFFSETTO:-0500
TZNAME:EST
DTSTART:20251102T060000
END:STANDARD
BEGIN:DAYLIGHT
TZOFFSETFROM:-0500
TZOFFSETTO:-0400
TZNAME:EDT
DTSTART:20260308T070000
END:DAYLIGHT
BEGIN:STANDARD
TZOFFSETFROM:-0400
TZOFFSETTO:-0500
TZNAME:EST
DTSTART:20261101T060000
END:STANDARD
END:VTIMEZONE
BEGIN:VEVENT
DTSTART;VALUE=DATE:20250314
DTEND;VALUE=DATE:20250315
DTSTAMP:20260423T063857
CREATED:20241012T175414Z
LAST-MODIFIED:20241012T175414Z
UID:3171-1741910400-1741996799@efdm.org
SUMMARY:Sugarloaf Friday
DESCRIPTION:
URL:https://efdm.org/event/sugarloaf-friday-7/
END:VEVENT
BEGIN:VEVENT
DTSTART;TZID=America/New_York:20250313T110000
DTEND;TZID=America/New_York:20250313T110000
DTSTAMP:20260423T063857
CREATED:20241012T175306Z
LAST-MODIFIED:20241012T175306Z
UID:3168-1741863600-1741863600@efdm.org
SUMMARY:School Theatrical Performance\, 11 am Franco Center Lewiston
DESCRIPTION:
URL:https://efdm.org/event/school-theatrical-performance-11-am-franco-center-lewiston/
END:VEVENT
BEGIN:VEVENT
DTSTART;TZID=America/New_York:20250311T144500
DTEND;TZID=America/New_York:20250311T151500
DTSTAMP:20260423T063857
CREATED:20241012T175149Z
LAST-MODIFIED:20241012T175149Z
UID:3165-1741704300-1741706100@efdm.org
SUMMARY:EC3/PS Showcase #3 at 2:45 pm
DESCRIPTION:
URL:https://efdm.org/event/ec3-ps-showcase-3-at-245-pm/
END:VEVENT
BEGIN:VEVENT
DTSTART;TZID=America/New_York:20250307T113000
DTEND;TZID=America/New_York:20250307T113000
DTSTAMP:20260423T063857
CREATED:20241012T175106Z
LAST-MODIFIED:20241012T175106Z
UID:3163-1741347000-1741347000@efdm.org
SUMMARY:Half Day & Parent-Teacher Conferences. Dismissal at 11:30 am
DESCRIPTION:
URL:https://efdm.org/event/half-day-parent-teacher-conferences-dismissal-at-1130-am/
END:VEVENT
BEGIN:VEVENT
DTSTART;VALUE=DATE:20250228
DTEND;VALUE=DATE:20250301
DTSTAMP:20260423T063857
CREATED:20241012T175027Z
LAST-MODIFIED:20241012T175027Z
UID:3162-1740700800-1740787199@efdm.org
SUMMARY:Pineland Farms Nordic Ski Day
DESCRIPTION:
URL:https://efdm.org/event/pineland-farms-nordic-ski-day/
END:VEVENT
BEGIN:VEVENT
DTSTART;VALUE=DATE:20250217
DTEND;VALUE=DATE:20250222
DTSTAMP:20260423T063857
CREATED:20241012T174953Z
LAST-MODIFIED:20241012T174953Z
UID:3160-1739750400-1740182399@efdm.org
SUMMARY:February Break
DESCRIPTION:
URL:https://efdm.org/event/february-break/
END:VEVENT
BEGIN:VEVENT
DTSTART;TZID=America/New_York:20250214T113000
DTEND;TZID=America/New_York:20250214T113000
DTSTAMP:20260423T063857
CREATED:20241012T174920Z
LAST-MODIFIED:20241012T174920Z
UID:3159-1739532600-1739532600@efdm.org
SUMMARY:Early Release- Dismissal at 11:30 am
DESCRIPTION:
URL:https://efdm.org/event/early-release-dismissal-at-1130-am/
END:VEVENT
BEGIN:VEVENT
DTSTART;TZID=America/New_York:20250212T084500
DTEND;TZID=America/New_York:20250212T091500
DTSTAMP:20260423T063857
CREATED:20241012T174840Z
LAST-MODIFIED:20241012T174840Z
UID:3157-1739349900-1739351700@efdm.org
SUMMARY:Grade 3-4 Showcase #2 ENGLISH at 8:45 am
DESCRIPTION:
URL:https://efdm.org/event/grade-3-4-showcase-2-english-at-845-am/
END:VEVENT
BEGIN:VEVENT
DTSTART;TZID=America/New_York:20250211T084500
DTEND;TZID=America/New_York:20250211T091500
DTSTAMP:20260423T063857
CREATED:20241012T174751Z
LAST-MODIFIED:20241012T174751Z
UID:3156-1739263500-1739265300@efdm.org
SUMMARY:Grade 2 Showcase #2 ENGLISH at 8:45 am
DESCRIPTION:
URL:https://efdm.org/event/grade-2-showcase-2-english-at-845-am/
END:VEVENT
BEGIN:VEVENT
DTSTART;VALUE=DATE:20250207
DTEND;VALUE=DATE:20250208
DTSTAMP:20260423T063857
CREATED:20241012T174125Z
LAST-MODIFIED:20241012T174125Z
UID:3155-1738886400-1738972799@efdm.org
SUMMARY:Sugarloaf Friday
DESCRIPTION:
URL:https://efdm.org/event/sugarloaf-friday-6/
END:VEVENT
BEGIN:VEVENT
DTSTART;TZID=America/New_York:20250130T084500
DTEND;TZID=America/New_York:20250130T091500
DTSTAMP:20260423T063857
CREATED:20241012T173856Z
LAST-MODIFIED:20241012T173856Z
UID:3153-1738226700-1738228500@efdm.org
SUMMARY:Grades 3-4 Showcase #2 FRENCH at 8:45 am
DESCRIPTION:
URL:https://efdm.org/event/grades-3-4-showcase-2-french-at-845-am/
END:VEVENT
BEGIN:VEVENT
DTSTART;TZID=America/New_York:20250129T084500
DTEND;TZID=America/New_York:20250129T091500
DTSTAMP:20260423T063857
CREATED:20241012T173801Z
LAST-MODIFIED:20241012T173801Z
UID:3151-1738140300-1738142100@efdm.org
SUMMARY:Grade 2 Showcase #2 FRENCH at 8:45 am
DESCRIPTION:
URL:https://efdm.org/event/grade-2-showcase-2-french-at-845-am/
END:VEVENT
BEGIN:VEVENT
DTSTART;TZID=America/New_York:20250128T084500
DTEND;TZID=America/New_York:20250128T091500
DTSTAMP:20260423T063857
CREATED:20241012T152557Z
LAST-MODIFIED:20241012T173713Z
UID:3150-1738053900-1738055700@efdm.org
SUMMARY:Grade 1 Showcase #2 FRENCH at 8:45 am
DESCRIPTION:
URL:https://efdm.org/event/grade-1-showcase-2-french-at-845-am/
END:VEVENT
BEGIN:VEVENT
DTSTART;VALUE=DATE:20250124
DTEND;VALUE=DATE:20250125
DTSTAMP:20260423T063857
CREATED:20241012T174052Z
LAST-MODIFIED:20241012T174052Z
UID:3154-1737676800-1737763199@efdm.org
SUMMARY:Sugarloaf Friday
DESCRIPTION:
URL:https://efdm.org/event/sugarloaf-friday-5/
END:VEVENT
BEGIN:VEVENT
DTSTART;VALUE=DATE:20250120
DTEND;VALUE=DATE:20250121
DTSTAMP:20260423T063857
CREATED:20221208T195227Z
LAST-MODIFIED:20240705T170118Z
UID:2721-1737331200-1737417599@efdm.org
SUMMARY:Dr. Martin Luther King Jr. Day: no school
DESCRIPTION:
URL:https://efdm.org/event/dr-martin-luther-king-jr-day-no-school/
END:VEVENT
BEGIN:VEVENT
DTSTART;VALUE=DATE:20250110
DTEND;VALUE=DATE:20250111
DTSTAMP:20260423T063857
CREATED:20241012T152432Z
LAST-MODIFIED:20241012T152432Z
UID:3148-1736467200-1736553599@efdm.org
SUMMARY:Sugarloaf Friday
DESCRIPTION:
URL:https://efdm.org/event/sugarloaf-friday-4/
END:VEVENT
BEGIN:VEVENT
DTSTART;TZID=America/New_York:20250106T082000
DTEND;TZID=America/New_York:20250106T082000
DTSTAMP:20260423T063857
CREATED:20241012T152404Z
LAST-MODIFIED:20241012T152404Z
UID:3147-1736151600-1736151600@efdm.org
SUMMARY:School Resumes after Holiday Break
DESCRIPTION:
URL:https://efdm.org/event/school-resumes-after-holiday-break/
END:VEVENT
BEGIN:VEVENT
DTSTART;VALUE=DATE:20241223
DTEND;VALUE=DATE:20250106
DTSTAMP:20260423T063857
CREATED:20241012T152324Z
LAST-MODIFIED:20241012T152324Z
UID:3146-1734912000-1736121599@efdm.org
SUMMARY:Winter Break
DESCRIPTION:
URL:https://efdm.org/event/winter-break/
END:VEVENT
BEGIN:VEVENT
DTSTART;TZID=America/New_York:20241220T113000
DTEND;TZID=America/New_York:20241220T113000
DTSTAMP:20260423T063857
CREATED:20241220T141027Z
LAST-MODIFIED:20241220T141027Z
UID:3211-1734694200-1734694200@efdm.org
SUMMARY:Early Release 11:30 am - No lunch
DESCRIPTION:
URL:https://efdm.org/event/early-release-1130-am-no-lunch/
END:VEVENT
BEGIN:VEVENT
DTSTART;TZID=America/New_York:20241213T140000
DTEND;TZID=America/New_York:20241213T150000
DTSTAMP:20260423T063857
CREATED:20241012T152227Z
LAST-MODIFIED:20241012T152227Z
UID:3144-1734098400-1734102000@efdm.org
SUMMARY:School Winter Performance at 2:00 pm
DESCRIPTION:
URL:https://efdm.org/event/school-winter-performance-at-200-pm/
END:VEVENT
BEGIN:VEVENT
DTSTART;TZID=America/New_York:20241204T083000
DTEND;TZID=America/New_York:20241204T091500
DTSTAMP:20260423T063857
CREATED:20241012T152133Z
LAST-MODIFIED:20241012T152133Z
UID:3142-1733301000-1733303700@efdm.org
SUMMARY:Café et Conversation at 8:30 am
DESCRIPTION:
URL:https://efdm.org/event/cafe-et-conversation-at-830-am/
END:VEVENT
BEGIN:VEVENT
DTSTART;VALUE=DATE:20241127
DTEND;VALUE=DATE:20241130
DTSTAMP:20260423T063857
CREATED:20241012T152054Z
LAST-MODIFIED:20241012T152054Z
UID:3140-1732665600-1732924799@efdm.org
SUMMARY:Thanksgiving Break 27-29
DESCRIPTION:
URL:https://efdm.org/event/thanksgiving-break-27-29/
END:VEVENT
BEGIN:VEVENT
DTSTART;TZID=America/New_York:20241126T140000
DTEND;TZID=America/New_York:20241126T150000
DTSTAMP:20260423T063857
CREATED:20241012T151642Z
LAST-MODIFIED:20241012T152014Z
UID:3139-1732629600-1732633200@efdm.org
SUMMARY:Suzuki Concert: Violin at 2:00 pm
DESCRIPTION:
URL:https://efdm.org/event/suzuki-concert-violin-at-200-pm/
END:VEVENT
BEGIN:VEVENT
DTSTART;TZID=America/New_York:20241125T140000
DTEND;TZID=America/New_York:20241125T151500
DTSTAMP:20260423T063857
CREATED:20241012T151443Z
LAST-MODIFIED:20241012T151512Z
UID:3138-1732543200-1732547700@efdm.org
SUMMARY:Suzuki Concert: Piano and Cello at 2:00 pm
DESCRIPTION:
URL:https://efdm.org/event/suzuki-concert-piano-and-cello-at-200-pm/
END:VEVENT
BEGIN:VEVENT
DTSTART;TZID=America/New_York:20241115T084500
DTEND;TZID=America/New_York:20241115T091500
DTSTAMP:20260423T063857
CREATED:20241012T151351Z
LAST-MODIFIED:20241012T151351Z
UID:3136-1731660300-1731662100@efdm.org
SUMMARY:K/GS Showcase #2 at 8:45 am
DESCRIPTION:
URL:https://efdm.org/event/k-gs-showcase-2-at-845-am/
END:VEVENT
BEGIN:VEVENT
DTSTART;TZID=America/New_York:20241114T144500
DTEND;TZID=America/New_York:20241114T151500
DTSTAMP:20260423T063857
CREATED:20241012T151301Z
LAST-MODIFIED:20241012T151301Z
UID:3134-1731595500-1731597300@efdm.org
SUMMARY:EC4/MS Showcase #2 at 2:45 pm
DESCRIPTION:
URL:https://efdm.org/event/ec4-ms-showcase-2-at-245-pm-2/
END:VEVENT
BEGIN:VEVENT
DTSTART;TZID=America/New_York:20241113T083000
DTEND;TZID=America/New_York:20241113T093000
DTSTAMP:20260423T063857
CREATED:20241012T151218Z
LAST-MODIFIED:20241012T151218Z
UID:3132-1731486600-1731490200@efdm.org
SUMMARY:Cafe Conversation at 8:30 am
DESCRIPTION:
URL:https://efdm.org/event/cafe-conversation-at-830-am/
END:VEVENT
BEGIN:VEVENT
DTSTART;TZID=America/New_York:20241112T144500
DTEND;TZID=America/New_York:20241112T151500
DTSTAMP:20260423T063857
CREATED:20241012T151129Z
LAST-MODIFIED:20241012T151129Z
UID:3131-1731422700-1731424500@efdm.org
SUMMARY:EC3/PS Showcase #2 at 2:45 pm
DESCRIPTION:
URL:https://efdm.org/event/ec3-ps-showcase-2-at-245-pm/
END:VEVENT
BEGIN:VEVENT
DTSTART;VALUE=DATE:20241111
DTEND;VALUE=DATE:20241112
DTSTAMP:20260423T063857
CREATED:20241012T151044Z
LAST-MODIFIED:20241012T151044Z
UID:3129-1731283200-1731369599@efdm.org
SUMMARY:Veteran’s Day. No School
DESCRIPTION:
URL:https://efdm.org/event/veterans-day-no-school/
END:VEVENT
BEGIN:VEVENT
DTSTART;TZID=America/New_York:20241108T113000
DTEND;TZID=America/New_York:20241108T113000
DTSTAMP:20260423T063857
CREATED:20231205T232442Z
LAST-MODIFIED:20240705T170505Z
UID:2904-1731065400-1731065400@efdm.org
SUMMARY:Parent Teacher Conferences- Early Dismissal
DESCRIPTION:
URL:https://efdm.org/event/parent-teacher-conferences-early-dismissal/
END:VEVENT
END:VCALENDAR